Index of /checkResults/release/workflows-LATEST/generegulation/raw-results
Name
Last modified
Size
Description
Parent Directory
-
info.dcf
12-Jun-2024 05:30
311
lconway/
12-Jun-2024 05:30
-
merida1/
02-Mar-2024 04:00
-
nebbiolo1/
12-Jun-2024 05:30
-
palomino3/
12-Jun-2024 05:30
-