Back to Workflows build report for BioC 3.14

This page was generated on 2022-01-24 21:00:08 -0500 (Mon, 24 Jan 2022).

HostnameOSArch (*)R versionInstalled pkgs
nebbiolo2Linux (Ubuntu 20.04.4 LTS)x86_644.1.2 (2021-11-01) -- "Bird Hippie" 4329
riesling1Windows Server 2019 Standardx644.1.2 (2021-11-01) -- "Bird Hippie" 4105
machv2macOS 10.14.6 Mojavex86_644.1.2 (2021-11-01) -- "Bird Hippie" 4141
Click on any hostname to see more info about the system (e.g. compilers)      (*) as reported by 'uname -p', except on Windows and Mac OS X

INSTALL results for fluentGenomics on riesling1


To the developers/maintainers of the fluentGenomics package:
Make sure to use the following settings in order to reproduce any error or warning you see on this page.

raw results

Package 12/29HostnameOS / ArchINSTALLBUILD
fluentGenomics 1.6.0  (landing page)
Stuart Lee
Snapshot Date: 2022-01-24 14:45:02 -0500 (Mon, 24 Jan 2022)
git_url: https://git.bioconductor.org/packages/fluentGenomics
git_branch: RELEASE_3_14
git_last_commit: ab6b1e0
git_last_commit_date: 2021-10-26 11:16:44 -0500 (Tue, 26 Oct 2021)
nebbiolo2Linux (Ubuntu 20.04.4 LTS) / x86_64  OK    OK  UNNEEDED, same version is already published
riesling1Windows Server 2019 Standard / x64  OK    OK  
machv2macOS 10.14.6 Mojave / x86_64  OK    OK  

Summary

Package: fluentGenomics
Version: 1.6.0
Command: C:\cygwin\bin\curl.exe -O http://155.52.207.166/BBS/3.14/workflows/src/contrib/fluentGenomics_1.6.0.tar.gz && rm -rf fluentGenomics.buildbin-libdir && mkdir fluentGenomics.buildbin-libdir && D:\biocbuild\bbs-3.14-bioc\R\bin\R.exe CMD INSTALL --merge-multiarch --build --library=fluentGenomics.buildbin-libdir fluentGenomics_1.6.0.tar.gz && D:\biocbuild\bbs-3.14-bioc\R\bin\R.exe CMD INSTALL fluentGenomics_1.6.0.zip && rm fluentGenomics_1.6.0.tar.gz fluentGenomics_1.6.0.zip
StartedAt: 2022-01-24 15:01:06 -0500 (Mon, 24 Jan 2022)
EndedAt: 2022-01-24 15:02:05 -0500 (Mon, 24 Jan 2022)
EllapsedTime: 58.8 seconds
RetCode: 0
Status:   OK  

Command output

##############################################################################
##############################################################################
###
### Running command:
###
###   C:\cygwin\bin\curl.exe -O http://155.52.207.166/BBS/3.14/workflows/src/contrib/fluentGenomics_1.6.0.tar.gz && rm -rf fluentGenomics.buildbin-libdir && mkdir fluentGenomics.buildbin-libdir && D:\biocbuild\bbs-3.14-bioc\R\bin\R.exe CMD INSTALL --merge-multiarch --build --library=fluentGenomics.buildbin-libdir fluentGenomics_1.6.0.tar.gz && D:\biocbuild\bbs-3.14-bioc\R\bin\R.exe CMD INSTALL fluentGenomics_1.6.0.zip && rm fluentGenomics_1.6.0.tar.gz fluentGenomics_1.6.0.zip
###
##############################################################################
##############################################################################


  % Total    % Received % Xferd  Average Speed   Time    Time     Time  Current
                                 Dload  Upload   Total   Spent    Left  Speed

  0     0    0     0    0     0      0      0 --:--:-- --:--:-- --:--:--     0
  4 5383k    4  221k    0     0   606k      0  0:00:08 --:--:--  0:00:08  605k
 23 5383k   23 1239k    0     0   739k      0  0:00:07  0:00:01  0:00:06  739k
 44 5383k   44 2377k    0     0   997k      0  0:00:05  0:00:02  0:00:03  996k
 88 5383k   88 4742k    0     0  1397k      0  0:00:03  0:00:03 --:--:-- 1396k
100 5383k  100 5383k    0     0  1481k      0  0:00:03  0:00:03 --:--:-- 1480k

install for i386

* installing *source* package 'fluentGenomics' ...
** using staged installation
** R
** data
*** moving datasets to lazyload DB
** byte-compile and prepare package for lazy loading
** help
*** installing help indices
  converting help for package 'fluentGenomics'
    finding HTML links ... done
    cache-se                                html  
    peaks                                   html  
** building package indices
** installing vignettes
** testing if installed package can be loaded from temporary location
** testing if installed package can be loaded from final location
** testing if installed package keeps a record of temporary installation path

install for x64

* installing *source* package 'fluentGenomics' ...
** testing if installed package can be loaded
* MD5 sums
packaged installation of 'fluentGenomics' as fluentGenomics_1.6.0.zip
* DONE (fluentGenomics)
* installing to library 'D:/biocbuild/bbs-3.14-bioc/R/library'
package 'fluentGenomics' successfully unpacked and MD5 sums checked