Back to Workflows build report for BioC 3.14

This page was generated on 2022-01-24 21:00:08 -0500 (Mon, 24 Jan 2022).

HostnameOSArch (*)R versionInstalled pkgs
nebbiolo2Linux (Ubuntu 20.04.4 LTS)x86_644.1.2 (2021-11-01) -- "Bird Hippie" 4329
riesling1Windows Server 2019 Standardx644.1.2 (2021-11-01) -- "Bird Hippie" 4105
machv2macOS 10.14.6 Mojavex86_644.1.2 (2021-11-01) -- "Bird Hippie" 4141
Click on any hostname to see more info about the system (e.g. compilers)      (*) as reported by 'uname -p', except on Windows and Mac OS X

BUILD results for fluentGenomics on riesling1


To the developers/maintainers of the fluentGenomics package:
Make sure to use the following settings in order to reproduce any error or warning you see on this page.

raw results

Package 12/29HostnameOS / ArchINSTALLBUILD
fluentGenomics 1.6.0  (landing page)
Stuart Lee
Snapshot Date: 2022-01-24 14:45:02 -0500 (Mon, 24 Jan 2022)
git_url: https://git.bioconductor.org/packages/fluentGenomics
git_branch: RELEASE_3_14
git_last_commit: ab6b1e0
git_last_commit_date: 2021-10-26 11:16:44 -0500 (Tue, 26 Oct 2021)
nebbiolo2Linux (Ubuntu 20.04.4 LTS) / x86_64  OK    OK  UNNEEDED, same version is already published
riesling1Windows Server 2019 Standard / x64  OK    OK  
machv2macOS 10.14.6 Mojave / x86_64  OK    OK  

Summary

Package: fluentGenomics
Version: 1.6.0
Command: chmod a+r fluentGenomics -R && D:\biocbuild\bbs-3.14-bioc\R\bin\R.exe CMD build --keep-empty-dirs --no-resave-data fluentGenomics
StartedAt: 2022-01-24 15:06:04 -0500 (Mon, 24 Jan 2022)
EndedAt: 2022-01-24 15:08:35 -0500 (Mon, 24 Jan 2022)
EllapsedTime: 150.7 seconds
RetCode: 0
Status:   OK  
PackageFile: fluentGenomics_1.6.0.tar.gz
PackageFileSize: 5.36 MiB

Command output

##############################################################################
##############################################################################
###
### Running command:
###
###   chmod a+r fluentGenomics -R && D:\biocbuild\bbs-3.14-bioc\R\bin\R.exe CMD build --keep-empty-dirs --no-resave-data fluentGenomics
###
##############################################################################
##############################################################################


* checking for file 'fluentGenomics/DESCRIPTION' ... OK
* preparing 'fluentGenomics':
* checking DESCRIPTION meta-information ... OK
* installing the package to build vignettes
* creating vignettes ... OK
* checking for LF line-endings in source and make files and shell scripts
* checking for empty or unneeded directories
* building 'fluentGenomics_1.6.0.tar.gz'