Index of /checkResults/release/workflows-LATEST/fluentGenomics/raw-results

[ICO]NameLast modifiedSizeDescription

[DIR]Parent Directory  -  
[   ]info.dcf25-Jun-2022 03:00 279  
[DIR]merida1/25-Jun-2022 03:00 -  
[DIR]nebbiolo1/25-Jun-2022 03:00 -