Back to Workflows build report for BioC 3.13

This page was generated on 2021-09-14 15:50:07 -0400 (Tue, 14 Sep 2021).

All results for package eQTL

To the developers/maintainers of the eQTL package:
Make sure to use the following settings in order to reproduce any error or warning you see on this page.

raw results

Package 10/29HostnameOS / ArchINSTALLBUILD
eQTL 1.16.0  (landing page)
Vincent Carey
Snapshot Date: 2021-09-14 08:50:01 -0400 (Tue, 14 Sep 2021)
git_url: https://git.bioconductor.org/packages/eQTL
git_branch: RELEASE_3_13
git_last_commit: 614cb53
git_last_commit_date: 2021-05-19 11:19:05 -0400 (Wed, 19 May 2021)
nebbiolo1Linux (Ubuntu 20.04.2 LTS) / x86_64  ERROR    ERROR