Index of /checkResults/release/workflows-LATEST/csawUsersGuide/raw-results
Name
Last modified
Size
Description
Parent Directory
-
info.dcf
18-May-2024 03:00
303
lconway/
18-May-2024 03:00
-
merida1/
02-Mar-2024 04:00
-
nebbiolo1/
18-May-2024 03:00
-
palomino3/
18-May-2024 03:00
-