Back to Workflows build report for BioC 3.12

INSTALL report for csawUsersGuide on malbec1

This page was generated on 2021-01-15 15:45:13 -0500 (Fri, 15 Jan 2021).

TO THE DEVELOPERS/MAINTAINERS OF THE csawUsersGuide PACKAGE: Please make sure to use the following settings in order to reproduce any error or warning you see on this page.
Package 7/28HostnameOS / ArchINSTALLBUILD
csawUsersGuide 1.6.0
Aaron Lun
Snapshot Date: 2021-01-15 09:00:03 -0500 (Fri, 15 Jan 2021)
URL: https://git.bioconductor.org/packages/csawUsersGuide
Branch: RELEASE_3_12
Last Commit: 490fa38
Last Changed Date: 2020-10-27 09:41:59 -0500 (Tue, 27 Oct 2020)
malbec1 Linux (Ubuntu 18.04.5 LTS) / x86_64 [ OK ] OK UNNEEDED, same version exists in internal repository
nebbiolo1 Linux (Ubuntu 20.04.1 LTS) / x86_64  OK  OK 

Summary

Package: csawUsersGuide
Version: 1.6.0
Command: /home/biocbuild/bbs-3.12-bioc/R/bin/R CMD INSTALL csawUsersGuide
StartedAt: 2021-01-15 09:05:08 -0500 (Fri, 15 Jan 2021)
EndedAt: 2021-01-15 09:05:10 -0500 (Fri, 15 Jan 2021)
EllapsedTime: 2.4 seconds
RetCode: 0
Status:  OK 

Command output

##############################################################################
##############################################################################
###
### Running command:
###
###   /home/biocbuild/bbs-3.12-bioc/R/bin/R CMD INSTALL csawUsersGuide
###
##############################################################################
##############################################################################


* installing to library ‘/home/biocbuild/bbs-3.12-bioc/R/library’
* installing *source* package ‘csawUsersGuide’ ...
** using staged installation
** inst
** help
No man pages found in package  ‘csawUsersGuide’ 
*** installing help indices
** building package indices
** installing vignettes
** testing if installed package can be loaded from temporary location
** testing if installed package can be loaded from final location
** testing if installed package keeps a record of temporary installation path
* DONE (csawUsersGuide)