Index of /checkResults/release/workflows-LATEST/arrays/raw-results/lconway
Name
Last modified
Size
Description
Parent Directory
-
buildsrc-out.txt
04-May-2024 03:00
812
buildsrc-summary.dcf
04-May-2024 03:00
423
install-out.txt
04-May-2024 03:00
971
install-summary.dcf
04-May-2024 03:00
266