Index of /checkResults/release/workflows-LATEST/RNAseq123/raw-results/palomino7
Name
Last modified
Size
Description
Parent Directory
-
install-summary.dcf
10-Jul-2024 05:30
272
buildsrc-out.txt
10-Jul-2024 05:30
921
buildsrc-summary.dcf
10-Jul-2024 05:30
460
install-out.txt
10-Jul-2024 05:30
953