Index of /checkResults/release/workflows-LATEST/RNAseq123/raw-results/palomino3
Name
Last modified
Size
Description
Parent Directory
-
install-summary.dcf
29-Jun-2024 05:30
272
install-out.txt
29-Jun-2024 05:30
953
buildsrc-summary.dcf
29-Jun-2024 05:30
460
buildsrc-out.txt
29-Jun-2024 05:30
921