Index of /checkResults/release/workflows-LATEST/RNAseq123/raw-results/nebbiolo1
Name
Last modified
Size
Description
Parent Directory
-
install-summary.dcf
10-Jul-2024 05:30
263
buildsrc-summary.dcf
10-Jul-2024 05:30
423
buildsrc-out.txt
10-Jul-2024 05:30
888
install-out.txt
10-Jul-2024 05:30
948