Index of /checkResults/release/workflows-LATEST/RNAseq123/raw-results/lconway
Name
Last modified
Size
Description
Parent Directory
-
buildsrc-summary.dcf
12-Jun-2024 05:30
433
buildsrc-out.txt
12-Jun-2024 05:30
898
install-summary.dcf
12-Jun-2024 05:30
273
install-out.txt
12-Jun-2024 05:30
1.0K