Index of /checkResults/release/workflows-LATEST/GeoMxWorkflows/raw-results/nebbiolo2
Name
Last modified
Size
Description
Parent Directory
-
buildsrc-out.txt
17-Apr-2024 03:00
833
buildsrc-summary.dcf
17-Apr-2024 03:00
438
install-out.txt
17-Apr-2024 03:00
968
install-summary.dcf
17-Apr-2024 03:00
272