Index of /checkResults/release/workflows-LATEST/ExpressionNormalizationWorkflow/raw-results/merida1
Name
Last modified
Size
Description
Parent Directory
-
install-summary.dcf
02-Mar-2024 04:00
317
install-out.txt
02-Mar-2024 04:00
2.1K
buildsrc-summary.dcf
02-Mar-2024 04:00
500
buildsrc-out.txt
02-Mar-2024 04:00
952