Index of /checkResults/release/workflows-LATEST/ExpressionNormalizationWorkflow/raw-results/lconway
Name
Last modified
Size
Description
Parent Directory
-
buildsrc-out.txt
04-May-2024 03:00
952
buildsrc-summary.dcf
04-May-2024 03:00
500
install-out.txt
04-May-2024 03:00
2.1K
install-summary.dcf
04-May-2024 03:00
317