Index of /checkResults/release/workflows-LATEST/ExpHunterSuite/raw-results/lconway
Name
Last modified
Size
Description
Parent Directory
-
buildsrc-out.txt
01-May-2024 03:00
844
buildsrc-summary.dcf
01-May-2024 03:00
449
install-out.txt
01-May-2024 03:00
1.0K
install-summary.dcf
01-May-2024 03:00
283