Index of /checkResults/release/workflows-LATEST/EGSEA123/raw-results/palomino3
Name
Last modified
Size
Description
Parent Directory
-
install-summary.dcf
29-Jun-2024 05:30
270
install-out.txt
29-Jun-2024 05:30
1.0K
buildsrc-summary.dcf
29-Jun-2024 05:30
457
buildsrc-out.txt
29-Jun-2024 05:30
879