Index of /checkResults/release/workflows-LATEST/EGSEA123/raw-results/nebbiolo2
Name
Last modified
Size
Description
Parent Directory
-
buildsrc-out.txt
27-Mar-2024 03:00
844
buildsrc-summary.dcf
27-Mar-2024 03:00
421
install-out.txt
27-Mar-2024 03:00
1.0K
install-summary.dcf
27-Mar-2024 03:00
261