Index of /checkResults/release/workflows-LATEST/EGSEA123/raw-results/nebbiolo1
Name
Last modified
Size
Description
Parent Directory
-
buildsrc-summary.dcf
10-Jul-2024 05:30
421
install-out.txt
10-Jul-2024 05:30
1.0K
install-summary.dcf
10-Jul-2024 05:30
261
buildsrc-out.txt
10-Jul-2024 05:30
844