Index of /checkResults/release/workflows-LATEST/EGSEA123/raw-results/lconway
Name
Last modified
Size
Description
Parent Directory
-
buildsrc-summary.dcf
12-Jun-2024 05:30
430
install-out.txt
12-Jun-2024 05:30
1.1K
install-summary.dcf
12-Jun-2024 05:30
271
buildsrc-out.txt
12-Jun-2024 05:30
854