Index of /checkResults/release/workflows-LATEST/BiocMetaWorkflow/raw-results/palomino7
Name
Last modified
Size
Description
Parent Directory
-
buildsrc-out.txt
10-Jul-2024 05:30
919
buildsrc-summary.dcf
10-Jul-2024 05:30
488
install-out.txt
10-Jul-2024 05:30
972
install-summary.dcf
10-Jul-2024 05:30
285