Index of /checkResults/release/workflows-LATEST/BiocMetaWorkflow/raw-results/palomino3
Name
Last modified
Size
Description
Parent Directory
-
install-out.txt
29-Jun-2024 05:30
972
install-summary.dcf
29-Jun-2024 05:30
285
buildsrc-out.txt
29-Jun-2024 05:30
919
buildsrc-summary.dcf
29-Jun-2024 05:30
488