Index of /checkResults/release/workflows-LATEST/BiocMetaWorkflow/raw-results/nebbiolo1
Name
Last modified
Size
Description
Parent Directory
-
install-out.txt
10-Jul-2024 05:30
968
buildsrc-out.txt
10-Jul-2024 05:30
876
buildsrc-summary.dcf
10-Jul-2024 05:30
443
install-summary.dcf
10-Jul-2024 05:30
276