Back to Multiple platform build/check report for BioC 3.12 experimental data
ABCDEFGHIJKLMNOPQRSTUVWX[Y]Z

Multiple platform build/check report for BioC 3.12 experimental data

Results for package yriMulti

This page was generated on 2021-02-25 14:11:35 -0500 (Thu, 25 Feb 2021).

Package 397/398HostnameOS / ArchINSTALLBUILDCHECK
yriMulti 0.20.0
VJ Carey
Snapshot Date: 2021-02-25 09:00:14 -0500 (Thu, 25 Feb 2021)
URL: https://git.bioconductor.org/packages/yriMulti
Branch: RELEASE_3_12
Last Commit: 47a6999
Last Changed Date: 2020-10-27 10:15:25 -0500 (Tue, 27 Oct 2020)
malbec1Linux (Ubuntu 18.04.5 LTS) / x86_64  ERROR    ERROR  skipped
nebbiolo1Linux (Ubuntu 20.04.2 LTS) / x86_64  ERROR    ERROR  skipped