Back to Build/check report for BioC 3.13 experimental data
ABCDEFGHIJKLMNOPQRSTUVWX[Y]Z

This page was generated on 2021-10-12 16:00:31 -0400 (Tue, 12 Oct 2021).

All results for package yri1kgv

To the developers/maintainers of the yri1kgv package:
Make sure to use the following settings in order to reproduce any error or warning you see on this page.

raw results

Package 405/406HostnameOS / ArchINSTALLBUILDCHECK
yri1kgv 0.34.0  (landing page)
VJ Carey
Snapshot Date: 2021-10-12 09:30:07 -0400 (Tue, 12 Oct 2021)
URL: https://git.bioconductor.org/packages/yri1kgv
Branch: RELEASE_3_13
Last Commit: 1de7f0c
Last Changed Date: 2021-05-19 11:45:28 -0400 (Wed, 19 May 2021)
malbec2Linux (Ubuntu 20.04.2 LTS) / x86_64  ERROR    OK    ERROR