Back to Build/check report for BioC 3.16 experimental data
ABCDEFGHIJKLMNOPQRS[T]UVWXYZ

This page was generated on 2023-02-02 14:50:29 -0500 (Thu, 02 Feb 2023).

HostnameOSArch (*)R versionInstalled pkgs
nebbiolo2Linux (Ubuntu 20.04.5 LTS)x86_644.2.2 (2022-10-31) -- "Innocent and Trusting" 4510
Click on any hostname to see more info about the system (e.g. compilers)      (*) as reported by 'uname -p', except on Windows and Mac OS X

All results for package tuberculosis


To the developers/maintainers of the tuberculosis package:
Make sure to use the following settings in order to reproduce any error or warning you see on this page.

raw results

Package 400/416HostnameOS / ArchINSTALLBUILDCHECK
tuberculosis 1.4.0  (landing page)
Lucas Schiffer
Snapshot Date: 2023-02-02 07:30:02 -0500 (Thu, 02 Feb 2023)
git_url: https://git.bioconductor.org/packages/tuberculosis
git_branch: RELEASE_3_16
git_last_commit: 9fccd32
git_last_commit_date: 2022-11-03 12:44:02 -0500 (Thu, 03 Nov 2022)
nebbiolo2Linux (Ubuntu 20.04.5 LTS) / x86_64  OK    OK    OK  UNNEEDED, same version is already published