Index of /checkResults/release/data-experiment-LATEST/tofsimsData/raw-results/nebbiolo1

[ICO]NameLast modifiedSizeDescription

[DIR]Parent Directory  -  
[   ]install-summary.dcf19-Jul-2024 03:51 266  
[TXT]install-out.txt19-Jul-2024 03:51 948  
[   ]checksrc-summary.dcf19-Jul-2024 03:51 435  
[TXT]checksrc-out.txt19-Jul-2024 03:51 3.5K 
[   ]buildsrc-summary.dcf19-Jul-2024 03:51 427  
[TXT]buildsrc-out.txt19-Jul-2024 03:51 813