Index of /checkResults/release/data-experiment-LATEST/tofsimsData/raw-results

[ICO]NameLast modifiedSizeDescription

[DIR]Parent Directory  -  
[   ]info.dcf14-Jun-2024 03:51 276  
[DIR]nebbiolo1/14-Jun-2024 03:51 -