Index of /checkResults/release/data-experiment-LATEST/tinesath1cdf/raw-results/nebbiolo1

[ICO]NameLast modifiedSizeDescription

[DIR]Parent Directory  -  
[   ]install-summary.dcf19-Jul-2024 03:51 268  
[   ]buildsrc-summary.dcf19-Jul-2024 03:51 431  
[   ]checksrc-summary.dcf19-Jul-2024 03:51 439  
[TXT]buildsrc-out.txt19-Jul-2024 03:51 924  
[TXT]install-out.txt19-Jul-2024 03:51 943  
[TXT]checksrc-out.txt19-Jul-2024 03:51 3.2K