Index of /checkResults/release/data-experiment-LATEST/stjudem/raw-results
Name
Last modified
Size
Description
Parent Directory
-
info.dcf
02-Jun-2023 03:51
271
nebbiolo1/
02-Jun-2023 03:51
-