Back to Build/check report for BioC 3.14 experimental data
ABCDEFGHIJKLMNOPQR[S]TUVWXYZ

This page was generated on 2022-01-19 14:50:25 -0500 (Wed, 19 Jan 2022).

HostnameOSArch (*)R versionInstalled pkgs
nebbiolo2Linux (Ubuntu 20.04.4 LTS)x86_644.1.2 (2021-11-01) -- "Bird Hippie" 4329
Click on any hostname to see more info about the system (e.g. compilers)      (*) as reported by 'uname -p', except on Windows and Mac OS X

BUILD results for simpIntLists on nebbiolo2


To the developers/maintainers of the simpIntLists package:
Make sure to use the following settings in order to reproduce any error or warning you see on this page.

raw results

Package 351/408HostnameOS / ArchINSTALLBUILDCHECK
simpIntLists 1.30.0  (landing page)
Kircicegi Korkmaz
Snapshot Date: 2022-01-19 07:30:01 -0500 (Wed, 19 Jan 2022)
git_url: https://git.bioconductor.org/packages/simpIntLists
git_branch: RELEASE_3_14
git_last_commit: 3ac8123
git_last_commit_date: 2021-10-26 11:46:07 -0500 (Tue, 26 Oct 2021)
nebbiolo2Linux (Ubuntu 20.04.4 LTS) / x86_64  OK    OK    WARNINGS  UNNEEDED, same version is already published

Summary

Package: simpIntLists
Version: 1.30.0
Command: /home/biocbuild/bbs-3.14-bioc/R/bin/R CMD build --keep-empty-dirs --no-resave-data simpIntLists
StartedAt: 2022-01-19 10:43:59 -0500 (Wed, 19 Jan 2022)
EndedAt: 2022-01-19 10:44:05 -0500 (Wed, 19 Jan 2022)
EllapsedTime: 6.8 seconds
RetCode: 0
Status:   OK  
PackageFile: simpIntLists_1.30.0.tar.gz
PackageFileSize: 4.416 MiB

Command output

##############################################################################
##############################################################################
###
### Running command:
###
###   /home/biocbuild/bbs-3.14-bioc/R/bin/R CMD build --keep-empty-dirs --no-resave-data simpIntLists
###
##############################################################################
##############################################################################


* checking for file ‘simpIntLists/DESCRIPTION’ ... OK
* preparing ‘simpIntLists’:
* checking DESCRIPTION meta-information ... OK
* installing the package to build vignettes
* creating vignettes ... OK
* checking for LF line-endings in source and make files and shell scripts
* checking for empty or unneeded directories
* looking to see if a ‘data/datalist’ file should be added
* building ‘simpIntLists_1.30.0.tar.gz’