Back to Build/check report for BioC 3.14 experimental data
ABCDEFGHIJKLMNOPQR[S]TUVWXYZ

This page was generated on 2021-12-01 18:35:25 -0500 (Wed, 01 Dec 2021).

All results for package serumStimulation

To the developers/maintainers of the serumStimulation package:
Make sure to use the following settings in order to reproduce any error or warning you see on this page.

raw results

Package 345/408HostnameOS / ArchINSTALLBUILDCHECK
serumStimulation 1.30.0  (landing page)
Morten Hansen,
Snapshot Date: 2021-12-01 08:30:01 -0500 (Wed, 01 Dec 2021)
git_url: https://git.bioconductor.org/packages/serumStimulation
git_branch: RELEASE_3_14
git_last_commit: 5c02dd9
git_last_commit_date: 2021-10-26 11:48:00 -0500 (Tue, 26 Oct 2021)
nebbiolo2Linux (Ubuntu 20.04.3 LTS) / x86_64  OK    OK    OK  UNNEEDED, same version is already published