Back to Build/check report for BioC 3.14 experimental data
ABCDEFGHIJKLMNOPQR[S]TUVWXYZ

This page was generated on 2022-01-12 14:50:21 -0500 (Wed, 12 Jan 2022).

HostnameOSArch (*)R versionInstalled pkgs
nebbiolo2Linux (Ubuntu 20.04.4 LTS)x86_644.1.2 (2021-11-01) -- "Bird Hippie" 4327
Click on any hostname to see more info about the system (e.g. compilers)      (*) as reported by 'uname -p', except on Windows and Mac OS X

All results for package seqCNA.annot


To the developers/maintainers of the seqCNA.annot package:
Make sure to use the following settings in order to reproduce any error or warning you see on this page.

raw results

Package 344/408HostnameOS / ArchINSTALLBUILDCHECK
seqCNA.annot 1.30.0  (landing page)
David Mosen-Ansorena
Snapshot Date: 2022-01-12 07:30:02 -0500 (Wed, 12 Jan 2022)
git_url: https://git.bioconductor.org/packages/seqCNA.annot
git_branch: RELEASE_3_14
git_last_commit: e3f0b37
git_last_commit_date: 2021-10-26 12:03:58 -0500 (Tue, 26 Oct 2021)
nebbiolo2Linux (Ubuntu 20.04.4 LTS) / x86_64  OK    OK    OK  UNNEEDED, same version is already published