Index of /checkResults/release/data-experiment-LATEST/sampleClassifierData/raw-results
Name
Last modified
Size
Description
Parent Directory
-
info.dcf
22-May-2024 03:51
310
nebbiolo1/
22-May-2024 03:51
-