Index of /checkResults/release/data-experiment-LATEST/rheumaticConditionWOLLBOLD/raw-results
Name
Last modified
Size
Description
Parent Directory
-
info.dcf
12-Jul-2024 03:51
324
nebbiolo1/
12-Jul-2024 03:51
-