Back to Multiple platform build/check report for BioC 3.12 experimental data
ABCDEFGHIJKLMNO[P]QRSTUVWXYZ

Multiple platform build/check report for BioC 3.12 experimental data

Results for package pwrEWAS.data

This page was generated on 2021-02-22 14:10:12 -0500 (Mon, 22 Feb 2021).

Package 293/398HostnameOS / ArchINSTALLBUILDCHECK
pwrEWAS.data 1.4.0
Stefan Graw
Snapshot Date: 2021-02-22 09:00:21 -0500 (Mon, 22 Feb 2021)
URL: https://git.bioconductor.org/packages/pwrEWAS.data
Branch: RELEASE_3_12
Last Commit: be93ea2
Last Changed Date: 2020-10-27 10:30:50 -0500 (Tue, 27 Oct 2020)
malbec1Linux (Ubuntu 18.04.5 LTS) / x86_64  OK    OK    OK  UNNEEDED, same version exists in internal repository
nebbiolo1Linux (Ubuntu 20.04.2 LTS) / x86_64  OK    OK    OK