Index of /checkResults/release/data-experiment-LATEST/prostateCancerStockholm/raw-results
Name
Last modified
Size
Description
Parent Directory
-
nebbiolo1/
03-May-2024 03:51
-
info.dcf
03-May-2024 03:51
310