Back to Build/check report for BioC 3.13 experimental data
ABCDEFGHIJKLMNO[P]QRSTUVWXYZ

This page was generated on 2021-09-25 15:59:20 -0400 (Sat, 25 Sep 2021).

All results for package prostateCancerGrasso

To the developers/maintainers of the prostateCancerGrasso package:
Make sure to use the following settings in order to reproduce any error or warning you see on this page.

raw results

Package 288/406HostnameOS / ArchINSTALLBUILDCHECK
prostateCancerGrasso 1.20.0  (landing page)
Mark Dunning
Snapshot Date: 2021-09-25 09:30:05 -0400 (Sat, 25 Sep 2021)
URL: https://git.bioconductor.org/packages/prostateCancerGrasso
Branch: RELEASE_3_13
Last Commit: caed370
Last Changed Date: 2021-05-19 11:56:21 -0400 (Wed, 19 May 2021)
malbec2Linux (Ubuntu 20.04.2 LTS) / x86_64  OK    OK    WARNINGS  UNNEEDED, same version is already published