Back to Build/check report for BioC 3.14 experimental data
ABCDEFGHIJKLMNO[P]QRSTUVWXYZ

This page was generated on 2022-01-19 14:50:24 -0500 (Wed, 19 Jan 2022).

HostnameOSArch (*)R versionInstalled pkgs
nebbiolo2Linux (Ubuntu 20.04.4 LTS)x86_644.1.2 (2021-11-01) -- "Bird Hippie" 4329
Click on any hostname to see more info about the system (e.g. compilers)      (*) as reported by 'uname -p', except on Windows and Mac OS X

BUILD results for ppiData on nebbiolo2


To the developers/maintainers of the ppiData package:
Make sure to use the following settings in order to reproduce any error or warning you see on this page.

raw results

Package 278/408HostnameOS / ArchINSTALLBUILDCHECK
ppiData 0.32.0  (landing page)
Bioconductor Package Maintainer
Snapshot Date: 2022-01-19 07:30:01 -0500 (Wed, 19 Jan 2022)
git_url: https://git.bioconductor.org/packages/ppiData
git_branch: RELEASE_3_14
git_last_commit: 31334ee
git_last_commit_date: 2021-10-26 11:40:52 -0500 (Tue, 26 Oct 2021)
nebbiolo2Linux (Ubuntu 20.04.4 LTS) / x86_64  OK    OK    WARNINGS  UNNEEDED, same version is already published

Summary

Package: ppiData
Version: 0.32.0
Command: /home/biocbuild/bbs-3.14-bioc/R/bin/R CMD build --keep-empty-dirs --no-resave-data ppiData
StartedAt: 2022-01-19 10:38:53 -0500 (Wed, 19 Jan 2022)
EndedAt: 2022-01-19 10:39:12 -0500 (Wed, 19 Jan 2022)
EllapsedTime: 18.4 seconds
RetCode: 0
Status:   OK  
PackageFile: ppiData_0.32.0.tar.gz
PackageFileSize: 3.074 MiB

Command output

##############################################################################
##############################################################################
###
### Running command:
###
###   /home/biocbuild/bbs-3.14-bioc/R/bin/R CMD build --keep-empty-dirs --no-resave-data ppiData
###
##############################################################################
##############################################################################


* checking for file ‘ppiData/DESCRIPTION’ ... OK
* preparing ‘ppiData’:
* checking DESCRIPTION meta-information ... OK
* installing the package to build vignettes
* creating vignettes ... OK
* checking for LF line-endings in source and make files and shell scripts
* checking for empty or unneeded directories
* looking to see if a ‘data/datalist’ file should be added
* building ‘ppiData_0.32.0.tar.gz’