Index of /checkResults/release/data-experiment-LATEST/pd.atdschip.tiling/raw-results
Name
Last modified
Size
Description
Parent Directory
-
info.dcf
03-May-2024 03:51
299
nebbiolo1/
03-May-2024 03:51
-