Name | Last modified | Size | Description | |
---|---|---|---|---|
Parent Directory | - | |||
buildsrc-out.txt | 29-Mar-2024 03:52 | 865 | ||
buildsrc-summary.dcf | 29-Mar-2024 03:52 | 415 | ||
checksrc-out.txt | 29-Mar-2024 03:52 | 4.2K | ||
checksrc-summary.dcf | 29-Mar-2024 03:52 | 417 | ||
install-out.txt | 29-Mar-2024 03:52 | 949 | ||
install-summary.dcf | 29-Mar-2024 03:52 | 256 | ||