Index of /checkResults/release/data-experiment-LATEST/msPurityData/raw-results
Name
Last modified
Size
Description
Parent Directory
-
info.dcf
24-May-2024 03:51
294
nebbiolo1/
24-May-2024 03:51
-