Back to Build/check report for BioC 3.12 experimental data
ABCDEFGHIJKL[M]NOPQRSTUVWXYZ

Build/check report for BioC 3.12 experimental data

Results for minfiData

This page was generated on 2020-10-29 15:36:04 -0400 (Thu, 29 Oct 2020).

Package 229/398HostnameOS / ArchINSTALLBUILDCHECK
minfiData 0.36.0
Kasper Daniel Hansen
Snapshot Date: 2020-10-29 08:45:03 -0400 (Thu, 29 Oct 2020)
URL: https://git.bioconductor.org/packages/minfiData
Branch: RELEASE_3_12
Last Commit: fa2879d
Last Changed Date: 2020-10-27 09:53:44 -0400 (Tue, 27 Oct 2020)
malbec1 Linux (Ubuntu 18.04.4 LTS) / x86_64  OK  OK  OK YES, new version is higher than in internal repository