Back to Build/check report for BioC 3.16 experimental data
ABCDEFGHIJKL[M]NOPQRSTUVWXYZ

This page was generated on 2023-02-02 14:50:29 -0500 (Thu, 02 Feb 2023).

HostnameOSArch (*)R versionInstalled pkgs
nebbiolo2Linux (Ubuntu 20.04.5 LTS)x86_644.2.2 (2022-10-31) -- "Innocent and Trusting" 4510
Click on any hostname to see more info about the system (e.g. compilers)      (*) as reported by 'uname -p', except on Windows and Mac OS X

All results for package miRNATarget


To the developers/maintainers of the miRNATarget package:
Make sure to use the following settings in order to reproduce any error or warning you see on this page.

raw results

Package 238/416HostnameOS / ArchINSTALLBUILDCHECK
miRNATarget 1.36.0  (landing page)
Y-h. Taguchi
Snapshot Date: 2023-02-02 07:30:02 -0500 (Thu, 02 Feb 2023)
git_url: https://git.bioconductor.org/packages/miRNATarget
git_branch: RELEASE_3_16
git_last_commit: 9ab5bd9
git_last_commit_date: 2022-11-01 10:48:38 -0500 (Tue, 01 Nov 2022)
nebbiolo2Linux (Ubuntu 20.04.5 LTS) / x86_64  OK    OK    OK  UNNEEDED, same version is already published