Back to Multiple platform build/check report for BioC 3.12 experimental data
ABCDEFGHIJKL[M]NOPQRSTUVWXYZ

Multiple platform build/check report for BioC 3.12 experimental data

Results for package mammaPrintData

This page was generated on 2021-02-22 14:10:11 -0500 (Mon, 22 Feb 2021).

Package 210/398HostnameOS / ArchINSTALLBUILDCHECK
mammaPrintData 1.26.0
Luigi Marchionni
Snapshot Date: 2021-02-22 09:00:21 -0500 (Mon, 22 Feb 2021)
URL: https://git.bioconductor.org/packages/mammaPrintData
Branch: RELEASE_3_12
Last Commit: 835ea9d
Last Changed Date: 2020-10-27 10:02:43 -0500 (Tue, 27 Oct 2020)
malbec1Linux (Ubuntu 18.04.5 LTS) / x86_64  OK    OK    OK  UNNEEDED, same version exists in internal repository
nebbiolo1Linux (Ubuntu 20.04.2 LTS) / x86_64  OK    OK    OK