Index of /checkResults/release/data-experiment-LATEST/mCSEAdata/raw-results
Name
Last modified
Size
Description
Parent Directory
-
info.dcf
17-May-2024 03:51
288
nebbiolo1/
17-May-2024 03:51
-