Back to Multiple platform build/check report for BioC 3.12 experimental data
ABCDEFGHIJKL[M]NOPQRSTUVWXYZ

Multiple platform build/check report for BioC 3.12 experimental data

Results for package mAPKLData

This page was generated on 2021-02-22 14:10:11 -0500 (Mon, 22 Feb 2021).

Package 211/398HostnameOS / ArchINSTALLBUILDCHECK
mAPKLData 1.22.0
Argiris Sakellariou
Snapshot Date: 2021-02-22 09:00:21 -0500 (Mon, 22 Feb 2021)
URL: https://git.bioconductor.org/packages/mAPKLData
Branch: RELEASE_3_12
Last Commit: d71db97
Last Changed Date: 2020-10-27 10:11:15 -0500 (Tue, 27 Oct 2020)
malbec1Linux (Ubuntu 18.04.5 LTS) / x86_64  OK    OK    WARNINGS  UNNEEDED, same version exists in internal repository
nebbiolo1Linux (Ubuntu 20.04.2 LTS) / x86_64  OK    OK    WARNINGS