Index of /checkResults/release/data-experiment-LATEST/leeBamViews/raw-results

[ICO]NameLast modifiedSizeDescription

[DIR]Parent Directory  -  
[   ]info.dcf17-Oct-2021 04:58 281  
[DIR]malbec2/17-Oct-2021 04:58 -