Name | Last modified | Size | Description | |
---|---|---|---|---|
Parent Directory | - | |||
install-summary.dcf | 26-Jul-2024 03:51 | 285 | ||
install-out.txt | 26-Jul-2024 03:51 | 1.0K | ||
checksrc-summary.dcf | 26-Jul-2024 03:51 | 471 | ||
checksrc-out.txt | 26-Jul-2024 03:51 | 3.5K | ||
buildsrc-summary.dcf | 26-Jul-2024 03:51 | 456 | ||
buildsrc-out.txt | 26-Jul-2024 03:51 | 858 | ||