Index of /checkResults/release/data-experiment-LATEST/hapmap500ksty/raw-results
Name
Last modified
Size
Description
Parent Directory
-
info.dcf
17-Apr-2024 03:51
299
nebbiolo2/
17-Apr-2024 03:51
-